BEGIN:VCALENDAR
VERSION:2.0
PRODID:-//Yoga First Academy - ECPv5.3.1.1//NONSGML v1.0//EN
CALSCALE:GREGORIAN
METHOD:PUBLISH
X-WR-CALNAME:Yoga First Academy
X-ORIGINAL-URL:https://yogafirst.gr
X-WR-CALDESC:Yoga First Academy - Εκδηλώσεις
BEGIN:VTIMEZONE
TZID:Europe/Moscow
BEGIN:STANDARD
TZOFFSETFROM:+0300
TZOFFSETTO:+0300
TZNAME:MSK
DTSTART:20210101T000000
END:STANDARD
END:VTIMEZONE
BEGIN:VEVENT
DTSTART;TZID=Europe/Moscow:20210326T180000
DTEND;TZID=Europe/Moscow:20210326T210000
DTSTAMP:20260423T201429
CREATED:20210319T141904Z
LAST-MODIFIED:20220829T113240Z
UID:8480-1616781600-1616792400@yogafirst.gr
SUMMARY:Yoga & Scoliosis
DESCRIPTION:Η Yoga μπορεί να «μεταμορφώσει» όχι μόνο το πνεύμα μας αλλά και το σώμα μας\, αρχίζοντας πάντα από την σωστή στάση του σώματος μας και την υγεία της σπονδυλικής μας στήλης. Ελάτε να εξερευνήσουμε πως η πρακτική μας εξάσκηση μπορεί να εφαρμοστεί στους μαθητές μας που πάσχουν από σκολίωση. \nΜαζί μας θα βρίσκεται ο φυσικοθεραπευτής Αντώνης Καθέρης που θα μας εξηγήσει τι είναι η σκολίωση και τι περιπτώσεις συναντά. \nΜέσα από θέσεις της Yoga θα αναλύσουμε πως μπορούμε να βοηθήσουμε τους μαθητές μας ώστε να ανακουφιστούν από τους πόνους και να δυναμώσουν. \nΠρόγραμμα σεμιναρίου: \n18:00-18:30: Παρουσίαση για την σκολίωση από τον φυσικοθεραπευτή Αντώνη Καθέρη (https://www.katheris.com/el/) \n18:30-19:30: Όρθιες θέσεις \n19:30-20:30: Καθιστές θέσεις \n20:30-21:00: Θέσεις χαλάρωσης \nΤο σεμινάριο οργανώνεται στα πλαίσια της συνεχιζόμενης εκπαίδευσης\, από την Yoga First Academy με τους εκπαιδευτές του προγράμματος των 200 ωρών (Vinyasa Yoga Teacher Training 200h) Παναγιώτη Κοντογιώργο & Ιωάννα Κολιακουδάκη. \nΣε όσους ενδιαφέρονται θα δοθεί πιστοποιητικό παρακολούθησης από την Yoga First Academy. \nΘα ακολουθήσουν σεμινάρια: \n\nYoga & props\nYoga & Pregnancy\nYoga & Chakras\n\nΠερισσότερες πληροφορίες για τους υπεύθυνους του προγράμματος βρείτε πατώντας  εδώ \n💻Το σεμινάριο πραγματοποιείται μέσω της πλατφόρμας Zoom. \nΟ σύνδεσμος & πληροφορίες σχετικά με την παρακολούθηση του μαθήματος θα σας σταλούν κατόπιν της εγγραφής και αποπληρωμής του σεμιναρίου. \nΚόστος σεμιναρίου: 25€ \nΘα χρειαστείτε ένα στρώμα Yoga\, έναν τοίχο και μια κουβέρτα. \nΓια την καλύτερη εξυπηρέτηση & παρακολούθηση ο αριθμός συμμετοχών είναι περιορισμένος. \n\nΔηλώστε Συμμετοχή\n\n  \n\n\n\n\n\n\n\n\n\n Όνομα*\n      \n E-mail*\n      \n Τηλέφωνο*\n      \n Μήνυμα\n    Θέλω να κάνω κράτηση της θέσης μου για το workshop.
URL:https://yogafirst.gr/event/yoga-scoliosis/
CATEGORIES:WorkShops
ATTACH;FMTTYPE=image/jpeg:https://yogafirst.gr/wp-content/uploads/2021/03/YogaScoliosisimg.jpg
END:VEVENT
END:VCALENDAR