BEGIN:VCALENDAR
VERSION:2.0
PRODID:-//Yoga First Academy - ECPv5.3.1.1//NONSGML v1.0//EN
CALSCALE:GREGORIAN
METHOD:PUBLISH
X-WR-CALNAME:Yoga First Academy
X-ORIGINAL-URL:https://yogafirst.gr
X-WR-CALDESC:Yoga First Academy - Εκδηλώσεις
BEGIN:VTIMEZONE
TZID:Europe/Moscow
BEGIN:STANDARD
TZOFFSETFROM:+0300
TZOFFSETTO:+0300
TZNAME:MSK
DTSTART:20210101T000000
END:STANDARD
END:VTIMEZONE
BEGIN:VEVENT
DTSTART;TZID=Europe/Moscow:20210410T180000
DTEND;TZID=Europe/Moscow:20210410T210000
DTSTAMP:20260423T184950
CREATED:20210401T094338Z
LAST-MODIFIED:20220829T113255Z
UID:8495-1618077600-1618088400@yogafirst.gr
SUMMARY:Yoga & Διαταραχή Ελλειμματικής Προσοχής – Υπερκινητικότητα
DESCRIPTION:« Πως θα σου φαινόταν αν προσπαθούσες να δεις τηλεόραση και κάποιος σου άλλαζε συνεχώς κανάλι;» \nΤα περισσότερα παιδιά μπορεί να είναι απρόσεκτα\, ζωηρά η υπερδραστήρια. ‘Όμως υπάρχουν και περιπτώσεις όπου η υπερκινητικότητα ή η παρορμητικότητα τους αποτελούν μεγάλη δυσκολία. \nΗ Διαταραχή Eλλειμματικής Προσοχής και Υπερκινητικότητα (ΔΕΠ-Υ)\, είναι μία από τις συχνότερες νευροβιολογικές διαταραχές της παιδικής και εφηβικής ηλικίας\, η οποία συνεχίζεται κατά ένα σημαντικό ποσοστό και στην ενήλικη ζωή. \nΣτο συγκεκριμένο σεμινάριο θα προσεγγίσουμε θεωρητικά ποια είναι τα συμπτώματα της ΔΕΠ-Υ και τι συμπτωματολογία παρουσιάζει στα παιδιά και στους ενήλικες. Σκοπός του σεμιναρίου είναι να δώσουμε στρατηγικές και εργαλεία\, για να ενισχύσουμε την συγκέντρωση και την οργάνωση παιδιών και ενηλίκων που παρουσιάζουν χαρακτηριστικά της διαταραχής αυτής.\nΠροσεγγίζουμε το θέμα πρακτικά\, μέσα από τη Υοga και το Διαλογισμό\, χρησιμοποιώντας τις τέχνες\, τη φύση\, την καταγραφή της καθημερινότητας και άλλα εργαλεία που βοηθούν στην αποσυμπίεση από το άγχος και το στρες. \nΕισηγητές: \nΕμμανουέλα Τσαγκαράκη – Ειδική Παιδαγωγός & Δασκάλα Yoga \,\nΕισηγητής του Kids Yoga Teacher Training I Course 60h (Yoga First Academy) \nΔημήτρης Γκιούλος – Δάσκαλος Yoga & Mindfulness \,\nΕισηγητής του Train Your Mind Teacher Training Ι Course 40h (Yoga First Academy) \nΚαλομοίρη Βίλλυ – Εργοθεραπεύτρια & υπεύθυνη Ομάδας Κοινωνικών Δεξιοτήτων παιδιών με ΔΕΠ-Υ\, διαταραχές υπερκινητικού τύπου και συμπεριφοράς. \nΤο σεμινάριο απευθύνεται: \n\nΣε Δασκάλους Yoga\nΣε Δασκάλους Παιδικής Υoga\nΣε Επαγγελματίες στο χώρο του Fitness και Wellness\nΣε Γονείς\nΣε Εκπαιδευτικούς και όλους όσους αναζητούν περισσότερες πρακτικές λύσεις για να ενισχύσουν τους ίδιους ή τους μαθητές τους.\n\nΤο σεμινάριο πραγματοποιείται μέσω της πλατφόρμας Zoom. \nΟ σύνδεσμος & πληροφορίες σχετικά με την παρακολούθηση του μαθήματος θα σας σταλούν κατόπιν της εγγραφής και αποπληρωμής του σεμιναρίου. \nΚόστος σεμιναρίου: 25€ \nΓια την καλύτερη εξυπηρέτηση & παρακολούθηση ο αριθμός συμμετοχών είναι περιορισμένος. \n\nΔηλώστε Συμμετοχή\n\n  \n\n\n\n\n\n\n\n\n\n Όνομα*\n      \n E-mail*\n      \n Τηλέφωνο*\n      \n Μήνυμα\n    Θέλω να κάνω κράτηση της θέσης μου για το workshop.
URL:https://yogafirst.gr/event/yoga-diataraxi-elimatikis-prosoxis/
CATEGORIES:WorkShops
ATTACH;FMTTYPE=image/jpeg:https://yogafirst.gr/wp-content/uploads/2021/04/yoga-workshop-01-04new.jpg
END:VEVENT
END:VCALENDAR